BEGIN:VCALENDAR
VERSION:2.0
PRODID:-//eventon.com NONSGML v1.0//EN
BEGIN:VEVENT
UID:69e9d30120393
DTSTAMP:20260423T030625
DTSTART:20260327T003000Z
DTEND:20260327T020000Z
LOCATION:Google Meet App (celular) o Navegador (computadora)
SUMMARY:Círculo de Mujeres
DESCRIPTION: Un círculo de mujeres es una oportunidad de encontrarnos en un espacio seguro y de confianza\,  libre de competencia y dedicado al crecimiento de cada una.  El “éxito” del círculo depende de la participación sincera de cada persona\,  y la dinámica que se cree en las sesiones cada semana. No[..]
END:VEVENT
END:VCALENDAR