BEGIN:VCALENDAR
VERSION:2.0
PRODID:-//eventon.com NONSGML v1.0//EN
BEGIN:VEVENT
UID:69e9d267c121c
DTSTAMP:20260423T030351
DTSTART:20260320T003000Z
DTEND:20260320T020000Z
LOCATION:Facebook de Mujer Despierta https://www.facebook.com/MDespierta/
SUMMARY:Tertulia "Lo que siempre has querido preguntar sobre tu ciclo y tu anticoncepción”
DESCRIPTION: ¿Sabías que el ciclo menstrual es un signo vital de tu salud? Si tienes cólicos\,  sufres durante los días premenstruales o tienes otros síntomas desagradables\,  quiero que sepas que hay maneras de mejorar tu experiencia. Si no tienes problemas con tu ciclo\,  también puedes aprender cómo aprovechar de su sabiduría.[..]
END:VEVENT
END:VCALENDAR